Package: cycle Version: 1.46.0 Command: chmod a+r cycle -R && C:\Users\biocbuild\bbs-3.13-bioc\R\bin\R.exe CMD build --keep-empty-dirs --no-resave-data cycle StartedAt: 2021-10-14 13:10:32 -0400 (Thu, 14 Oct 2021) EndedAt: 2021-10-14 13:11:06 -0400 (Thu, 14 Oct 2021) EllapsedTime: 34.0 seconds RetCode: 0 Status: OK PackageFile: cycle_1.46.0.tar.gz PackageFileSize: 167.7 KiB