Package: circRNAprofiler Version: 1.6.0 Command: /home/biocbuild/bbs-3.13-bioc/R/bin/R CMD build --keep-empty-dirs --no-resave-data circRNAprofiler StartedAt: 2021-10-14 06:57:06 -0400 (Thu, 14 Oct 2021) EndedAt: 2021-10-14 06:58:22 -0400 (Thu, 14 Oct 2021) EllapsedTime: 76.1 seconds RetCode: 0 Status: OK PackageFile: circRNAprofiler_1.6.0.tar.gz PackageFileSize: 3.595 MiB