Package: bluster Version: 1.2.1 Command: /Library/Frameworks/R.framework/Versions/Current/Resources/bin/R CMD INSTALL bluster StartedAt: 2021-10-14 09:22:36 -0400 (Thu, 14 Oct 2021) EndedAt: 2021-10-14 09:23:21 -0400 (Thu, 14 Oct 2021) EllapsedTime: 45.3 seconds RetCode: 0 Status: OK