Package: biocGraph Version: 1.54.0 Command: chmod a+r biocGraph -R && C:\Users\biocbuild\bbs-3.13-bioc\R\bin\R.exe CMD build --keep-empty-dirs --no-resave-data biocGraph StartedAt: 2021-10-14 12:02:54 -0400 (Thu, 14 Oct 2021) EndedAt: 2021-10-14 12:03:55 -0400 (Thu, 14 Oct 2021) EllapsedTime: 61.5 seconds RetCode: 0 Status: OK PackageFile: biocGraph_1.54.0.tar.gz PackageFileSize: 566 KiB