Package: bioDist Version: 1.64.0 Command: rm -rf bioDist.buildbin-libdir && mkdir bioDist.buildbin-libdir && C:\Users\biocbuild\bbs-3.13-bioc\R\bin\R.exe CMD INSTALL --merge-multiarch --build --library=bioDist.buildbin-libdir bioDist_1.64.0.tar.gz StartedAt: 2021-10-15 08:16:03 -0400 (Fri, 15 Oct 2021) EndedAt: 2021-10-15 08:17:33 -0400 (Fri, 15 Oct 2021) EllapsedTime: 89.8 seconds RetCode: 0 Status: OK PackageFile: bioDist_1.64.0.zip PackageFileSize: 197 KiB