Package: bigPint Version: 1.8.0 Command: /home/biocbuild/bbs-3.13-bioc/R/bin/R CMD build --keep-empty-dirs --no-resave-data bigPint StartedAt: 2021-10-14 06:46:46 -0400 (Thu, 14 Oct 2021) EndedAt: 2021-10-14 06:47:21 -0400 (Thu, 14 Oct 2021) EllapsedTime: 34.6 seconds RetCode: 0 Status: OK PackageFile: bigPint_1.8.0.tar.gz PackageFileSize: 5.558 MiB