Package: bambu Version: 1.2.1 Command: rm -rf bambu.buildbin-libdir && mkdir bambu.buildbin-libdir && /Users/biocbuild/BBS/utils/build-universal.sh bambu_1.2.1.tar.gz /Library/Frameworks/R.framework/Versions/Current/Resources/bin/R bambu.buildbin-libdir StartedAt: 2021-10-15 01:39:00 -0400 (Fri, 15 Oct 2021) EndedAt: 2021-10-15 01:40:03 -0400 (Fri, 15 Oct 2021) EllapsedTime: 63.2 seconds RetCode: 0 Status: OK PackageFile: bambu_1.2.1.tgz PackageFileSize: 1.184 MiB