Package: arrayQuality Version: 1.70.0 Command: /home/biocbuild/bbs-3.13-bioc/R/bin/R CMD check --install=check:arrayQuality.install-out.txt --library=/home/biocbuild/bbs-3.13-bioc/R/library --no-vignettes --timings arrayQuality_1.70.0.tar.gz StartedAt: 2021-10-14 08:53:14 -0400 (Thu, 14 Oct 2021) EndedAt: 2021-10-14 08:53:47 -0400 (Thu, 14 Oct 2021) EllapsedTime: 32.7 seconds RetCode: 0 Status: WARNINGS CheckDir: arrayQuality.Rcheck Warnings: 1