Package: annaffy Version: 1.64.2 Command: rm -rf annaffy.buildbin-libdir && mkdir annaffy.buildbin-libdir && /Users/biocbuild/BBS/utils/build-universal.sh annaffy_1.64.2.tar.gz /Library/Frameworks/R.framework/Versions/Current/Resources/bin/R annaffy.buildbin-libdir StartedAt: 2021-10-15 01:34:25 -0400 (Fri, 15 Oct 2021) EndedAt: 2021-10-15 01:35:34 -0400 (Fri, 15 Oct 2021) EllapsedTime: 69.2 seconds RetCode: 0 Status: OK PackageFile: annaffy_1.64.2.tgz PackageFileSize: 613.3 KiB