Package: a4Core Version: 1.40.0 Command: rm -rf a4Core.buildbin-libdir && mkdir a4Core.buildbin-libdir && C:\Users\biocbuild\bbs-3.13-bioc\R\bin\R.exe CMD INSTALL --merge-multiarch --build --library=a4Core.buildbin-libdir a4Core_1.40.0.tar.gz StartedAt: 2021-10-15 07:53:23 -0400 (Fri, 15 Oct 2021) EndedAt: 2021-10-15 07:54:47 -0400 (Fri, 15 Oct 2021) EllapsedTime: 84.6 seconds RetCode: 0 Status: OK PackageFile: a4Core_1.40.0.zip PackageFileSize: 303.7 KiB