Package: VariantExperiment Version: 1.6.0 Command: rm -rf VariantExperiment.buildbin-libdir && mkdir VariantExperiment.buildbin-libdir && C:\Users\biocbuild\bbs-3.13-bioc\R\bin\R.exe CMD INSTALL --merge-multiarch --build --library=VariantExperiment.buildbin-libdir VariantExperiment_1.6.0.tar.gz StartedAt: 2021-10-15 12:21:41 -0400 (Fri, 15 Oct 2021) EndedAt: 2021-10-15 12:22:56 -0400 (Fri, 15 Oct 2021) EllapsedTime: 74.8 seconds RetCode: 0 Status: OK PackageFile: VariantExperiment_1.6.0.zip PackageFileSize: 760.6 KiB