Package: Travel Version: 1.0.0 Command: /Library/Frameworks/R.framework/Versions/Current/Resources/bin/R CMD INSTALL Travel StartedAt: 2021-10-14 08:13:32 -0400 (Thu, 14 Oct 2021) EndedAt: 2021-10-14 08:15:27 -0400 (Thu, 14 Oct 2021) EllapsedTime: 114.6 seconds RetCode: 0 Status: OK