Package: Travel Version: 1.0.0 Command: /Library/Frameworks/R.framework/Versions/Current/Resources/bin/R CMD build --keep-empty-dirs --no-resave-data Travel StartedAt: 2021-10-14 15:25:19 -0400 (Thu, 14 Oct 2021) EndedAt: 2021-10-14 16:05:19 -0400 (Thu, 14 Oct 2021) EllapsedTime: 2400.1 seconds RetCode: None Status: TIMEOUT PackageFile: None PackageFileSize: NA