Package: TPP Version: 3.20.1 Command: /Library/Frameworks/R.framework/Versions/Current/Resources/bin/R CMD INSTALL TPP StartedAt: 2021-10-14 09:35:12 -0400 (Thu, 14 Oct 2021) EndedAt: 2021-10-14 09:36:02 -0400 (Thu, 14 Oct 2021) EllapsedTime: 50.3 seconds RetCode: 0 Status: OK