Package: TPP Version: 3.20.1 Command: /Library/Frameworks/R.framework/Versions/Current/Resources/bin/R CMD build --keep-empty-dirs --no-resave-data TPP StartedAt: 2021-10-14 15:23:14 -0400 (Thu, 14 Oct 2021) EndedAt: 2021-10-14 15:25:08 -0400 (Thu, 14 Oct 2021) EllapsedTime: 113.1 seconds RetCode: 0 Status: OK PackageFile: TPP_3.20.1.tar.gz PackageFileSize: 8.406 MiB