Package: TCC Version: 1.32.0 Command: C:\cygwin\bin\curl.exe -O http://155.52.207.165/BBS/3.13/bioc/src/contrib/TCC_1.32.0.tar.gz && rm -rf TCC.buildbin-libdir && mkdir TCC.buildbin-libdir && C:\Users\biocbuild\bbs-3.13-bioc\R\bin\R.exe CMD INSTALL --merge-multiarch --build --library=TCC.buildbin-libdir TCC_1.32.0.tar.gz && C:\Users\biocbuild\bbs-3.13-bioc\R\bin\R.exe CMD INSTALL TCC_1.32.0.zip && rm TCC_1.32.0.tar.gz TCC_1.32.0.zip StartedAt: 2021-10-14 09:22:38 -0400 (Thu, 14 Oct 2021) EndedAt: 2021-10-14 09:23:43 -0400 (Thu, 14 Oct 2021) EllapsedTime: 65.1 seconds RetCode: 0 Status: OK