Package: TCC Version: 1.32.0 Command: chmod a+r TCC -R && C:\Users\biocbuild\bbs-3.13-bioc\R\bin\R.exe CMD build --keep-empty-dirs --no-resave-data TCC StartedAt: 2021-10-14 18:43:08 -0400 (Thu, 14 Oct 2021) EndedAt: 2021-10-14 18:46:15 -0400 (Thu, 14 Oct 2021) EllapsedTime: 187.1 seconds RetCode: 0 Status: OK PackageFile: TCC_1.32.0.tar.gz PackageFileSize: 1.381 MiB