Package: SwimR Version: 1.30.0 Command: chmod a+r SwimR -R && C:\Users\biocbuild\bbs-3.13-bioc\R\bin\R.exe CMD build --keep-empty-dirs --no-resave-data SwimR StartedAt: 2021-10-14 18:39:36 -0400 (Thu, 14 Oct 2021) EndedAt: 2021-10-14 18:40:04 -0400 (Thu, 14 Oct 2021) EllapsedTime: 27.7 seconds RetCode: 1 Status: ERROR PackageFile: SwimR_1.30.0.tar.gz PackageFileSize: 1.599 MiB