Package: SeqGate Version: 1.2.0 Command: /home/biocbuild/bbs-3.13-bioc/R/bin/R CMD INSTALL SeqGate StartedAt: 2021-10-14 06:12:05 -0400 (Thu, 14 Oct 2021) EndedAt: 2021-10-14 06:12:21 -0400 (Thu, 14 Oct 2021) EllapsedTime: 15.8 seconds RetCode: 0 Status: OK