Package: SWATH2stats Version: 1.22.0 Command: /home/biocbuild/bbs-3.13-bioc/R/bin/R CMD INSTALL SWATH2stats StartedAt: 2021-10-14 06:09:33 -0400 (Thu, 14 Oct 2021) EndedAt: 2021-10-14 06:09:49 -0400 (Thu, 14 Oct 2021) EllapsedTime: 16.4 seconds RetCode: 0 Status: OK