Package: SLGI Version: 1.52.0 Command: chmod a+r SLGI -R && C:\Users\biocbuild\bbs-3.13-bioc\R\bin\R.exe CMD build --keep-empty-dirs --no-resave-data SLGI StartedAt: 2021-10-14 18:23:45 -0400 (Thu, 14 Oct 2021) EndedAt: 2021-10-14 18:25:16 -0400 (Thu, 14 Oct 2021) EllapsedTime: 90.7 seconds RetCode: 0 Status: OK PackageFile: SLGI_1.52.0.tar.gz PackageFileSize: 8.036 MiB