Package: SISPA Version: 1.22.0 Command: rm -rf SISPA.buildbin-libdir && mkdir SISPA.buildbin-libdir && /Users/biocbuild/BBS/utils/build-universal.sh SISPA_1.22.0.tar.gz /Library/Frameworks/R.framework/Versions/Current/Resources/bin/R SISPA.buildbin-libdir StartedAt: 2021-10-15 04:01:56 -0400 (Fri, 15 Oct 2021) EndedAt: 2021-10-15 04:03:09 -0400 (Fri, 15 Oct 2021) EllapsedTime: 73.1 seconds RetCode: 0 Status: OK PackageFile: SISPA_1.22.0.tgz PackageFileSize: 213.3 KiB