Package: SCANVIS Version: 1.6.0 Command: C:\cygwin\bin\curl.exe -O http://155.52.207.165/BBS/3.13/bioc/src/contrib/SCANVIS_1.6.0.tar.gz && rm -rf SCANVIS.buildbin-libdir && mkdir SCANVIS.buildbin-libdir && C:\Users\biocbuild\bbs-3.13-bioc\R\bin\R.exe CMD INSTALL --merge-multiarch --build --library=SCANVIS.buildbin-libdir SCANVIS_1.6.0.tar.gz && C:\Users\biocbuild\bbs-3.13-bioc\R\bin\R.exe CMD INSTALL SCANVIS_1.6.0.zip && rm SCANVIS_1.6.0.tar.gz SCANVIS_1.6.0.zip StartedAt: 2021-10-14 10:11:34 -0400 (Thu, 14 Oct 2021) EndedAt: 2021-10-14 10:12:21 -0400 (Thu, 14 Oct 2021) EllapsedTime: 47.2 seconds RetCode: 0 Status: OK