Package: SCANVIS Version: 1.6.0 Command: chmod a+r SCANVIS -R && C:\Users\biocbuild\bbs-3.13-bioc\R\bin\R.exe CMD build --keep-empty-dirs --no-resave-data SCANVIS StartedAt: 2021-10-14 17:54:48 -0400 (Thu, 14 Oct 2021) EndedAt: 2021-10-14 17:55:42 -0400 (Thu, 14 Oct 2021) EllapsedTime: 54.2 seconds RetCode: 0 Status: OK PackageFile: SCANVIS_1.6.0.tar.gz PackageFileSize: 465.5 KiB