Package: RedeR Version: 1.40.5 Command: rm -rf RedeR.buildbin-libdir && mkdir RedeR.buildbin-libdir && C:\Users\biocbuild\bbs-3.13-bioc\R\bin\R.exe CMD INSTALL --merge-multiarch --build --library=RedeR.buildbin-libdir RedeR_1.40.5.tar.gz StartedAt: 2021-10-15 11:19:30 -0400 (Fri, 15 Oct 2021) EndedAt: 2021-10-15 11:21:05 -0400 (Fri, 15 Oct 2021) EllapsedTime: 94.9 seconds RetCode: 0 Status: OK PackageFile: RedeR_1.40.5.zip PackageFileSize: 8.861 MiB