Package: RUVnormalize Version: 1.26.0 Command: rm -rf RUVnormalize.buildbin-libdir && mkdir RUVnormalize.buildbin-libdir && C:\Users\biocbuild\bbs-3.13-bioc\R\bin\R.exe CMD INSTALL --merge-multiarch --build --library=RUVnormalize.buildbin-libdir RUVnormalize_1.26.0.tar.gz StartedAt: 2021-10-15 11:34:15 -0400 (Fri, 15 Oct 2021) EndedAt: 2021-10-15 11:35:31 -0400 (Fri, 15 Oct 2021) EllapsedTime: 76.1 seconds RetCode: 0 Status: OK PackageFile: RUVnormalize_1.26.0.zip PackageFileSize: 279.6 KiB