Package: RTopper Version: 1.38.0 Command: /home/biocbuild/bbs-3.13-bioc/R/bin/R CMD build --keep-empty-dirs --no-resave-data RTopper StartedAt: 2021-10-14 08:16:58 -0400 (Thu, 14 Oct 2021) EndedAt: 2021-10-14 08:17:49 -0400 (Thu, 14 Oct 2021) EllapsedTime: 50.8 seconds RetCode: 0 Status: OK PackageFile: RTopper_1.38.0.tar.gz PackageFileSize: 1.246 MiB