Package: RNASeqPower Version: 1.32.0 Command: /home/biocbuild/bbs-3.13-bioc/R/bin/R CMD build --keep-empty-dirs --no-resave-data RNASeqPower StartedAt: 2021-10-14 08:14:40 -0400 (Thu, 14 Oct 2021) EndedAt: 2021-10-14 08:14:43 -0400 (Thu, 14 Oct 2021) EllapsedTime: 3.2 seconds RetCode: 0 Status: OK PackageFile: RNASeqPower_1.32.0.tar.gz PackageFileSize: 137.2 KiB