Package: RGMQL Version: 1.12.4 Command: /home/biocbuild/bbs-3.13-bioc/R/bin/R CMD INSTALL RGMQL StartedAt: 2021-10-14 06:23:15 -0400 (Thu, 14 Oct 2021) EndedAt: 2021-10-14 06:23:44 -0400 (Thu, 14 Oct 2021) EllapsedTime: 29.4 seconds RetCode: 0 Status: OK