Package: RDRToolbox Version: 1.42.0 Command: C:\cygwin\bin\curl.exe -O http://155.52.207.165/BBS/3.13/bioc/src/contrib/RDRToolbox_1.42.0.tar.gz && rm -rf RDRToolbox.buildbin-libdir && mkdir RDRToolbox.buildbin-libdir && C:\Users\biocbuild\bbs-3.13-bioc\R\bin\R.exe CMD INSTALL --merge-multiarch --build --library=RDRToolbox.buildbin-libdir RDRToolbox_1.42.0.tar.gz && C:\Users\biocbuild\bbs-3.13-bioc\R\bin\R.exe CMD INSTALL RDRToolbox_1.42.0.zip && rm RDRToolbox_1.42.0.tar.gz RDRToolbox_1.42.0.zip StartedAt: 2021-10-14 08:37:06 -0400 (Thu, 14 Oct 2021) EndedAt: 2021-10-14 08:38:12 -0400 (Thu, 14 Oct 2021) EllapsedTime: 65.8 seconds RetCode: 0 Status: OK