Package: RCyjs Version: 2.14.0 Command: rm -rf RCyjs.buildbin-libdir && mkdir RCyjs.buildbin-libdir && /Users/biocbuild/BBS/utils/build-universal.sh RCyjs_2.14.0.tar.gz /Library/Frameworks/R.framework/Versions/Current/Resources/bin/R RCyjs.buildbin-libdir StartedAt: 2021-10-15 03:40:20 -0400 (Fri, 15 Oct 2021) EndedAt: 2021-10-15 03:41:30 -0400 (Fri, 15 Oct 2021) EllapsedTime: 70.3 seconds RetCode: 0 Status: OK PackageFile: RCyjs_2.14.0.tgz PackageFileSize: 1021 KiB