Package: RBioinf Version: 1.52.0 Command: C:\cygwin\bin\curl.exe -O http://155.52.207.165/BBS/3.13/bioc/src/contrib/RBioinf_1.52.0.tar.gz && rm -rf RBioinf.buildbin-libdir && mkdir RBioinf.buildbin-libdir && C:\Users\biocbuild\bbs-3.13-bioc\R\bin\R.exe CMD INSTALL --merge-multiarch --build --library=RBioinf.buildbin-libdir RBioinf_1.52.0.tar.gz && C:\Users\biocbuild\bbs-3.13-bioc\R\bin\R.exe CMD INSTALL RBioinf_1.52.0.zip && rm RBioinf_1.52.0.tar.gz RBioinf_1.52.0.zip StartedAt: 2021-10-14 07:33:22 -0400 (Thu, 14 Oct 2021) EndedAt: 2021-10-14 07:34:19 -0400 (Thu, 14 Oct 2021) EllapsedTime: 57.5 seconds RetCode: 0 Status: OK