Package: R4RNA Version: 1.20.0 Command: chmod a+r R4RNA -R && C:\Users\biocbuild\bbs-3.13-bioc\R\bin\R.exe CMD build --keep-empty-dirs --no-resave-data R4RNA StartedAt: 2021-10-14 17:21:59 -0400 (Thu, 14 Oct 2021) EndedAt: 2021-10-14 17:22:28 -0400 (Thu, 14 Oct 2021) EllapsedTime: 28.1 seconds RetCode: 0 Status: OK PackageFile: R4RNA_1.20.0.tar.gz PackageFileSize: 838.4 KiB