############################################################################## ############################################################################## ### ### Running command: ### ### chmod a+r PCpheno -R && C:\Users\biocbuild\bbs-3.13-bioc\R\bin\R.exe CMD build --keep-empty-dirs --no-resave-data PCpheno ### ############################################################################## ############################################################################## * checking for file 'PCpheno/DESCRIPTION' ... OK * preparing 'PCpheno': * checking DESCRIPTION meta-information ... OK * installing the package to build vignettes ----------------------------------- ERROR: dependency 'KEGG.db' is not available for package 'PCpheno' * removing 'C:/Users/biocbuild/bbs-3.13-bioc/tmpdir/RtmpgBO9Hv/Rinst18b859824016/PCpheno' ----------------------------------- ERROR: package installation failed