git_url: https://git.bioconductor.org/packages/PCpheno git_branch: RELEASE_3_13 git_last_commit: a344578 git_last_commit_date: 2021-05-19 11:40:08 -0400 (Wed, 19 May 2021) Package: PCpheno Version: 1.54.0 Maintainer: Nolwenn Le Meur MaintainerEmail: nlemeur at gmail.com