Package: PADOG Version: 1.34.0 Command: C:\cygwin\bin\curl.exe -O http://155.52.207.165/BBS/3.13/bioc/src/contrib/PADOG_1.34.0.tar.gz && rm -rf PADOG.buildbin-libdir && mkdir PADOG.buildbin-libdir && C:\Users\biocbuild\bbs-3.13-bioc\R\bin\R.exe CMD INSTALL --merge-multiarch --build --library=PADOG.buildbin-libdir PADOG_1.34.0.tar.gz && C:\Users\biocbuild\bbs-3.13-bioc\R\bin\R.exe CMD INSTALL PADOG_1.34.0.zip && rm PADOG_1.34.0.tar.gz PADOG_1.34.0.zip StartedAt: 2021-10-14 08:07:48 -0400 (Thu, 14 Oct 2021) EndedAt: 2021-10-14 08:09:01 -0400 (Thu, 14 Oct 2021) EllapsedTime: 72.4 seconds RetCode: 0 Status: OK