Package: NormqPCR Version: 1.38.0 Command: chmod a+r NormqPCR -R && C:\Users\biocbuild\bbs-3.13-bioc\R\bin\R.exe CMD build --keep-empty-dirs --no-resave-data NormqPCR StartedAt: 2021-10-14 16:10:57 -0400 (Thu, 14 Oct 2021) EndedAt: 2021-10-14 16:11:26 -0400 (Thu, 14 Oct 2021) EllapsedTime: 29.3 seconds RetCode: 0 Status: OK PackageFile: NormqPCR_1.38.0.tar.gz PackageFileSize: 324.7 KiB