Package: MultiBaC Version: 1.2.0 Command: C:\cygwin\bin\curl.exe -O http://155.52.207.165/BBS/3.13/bioc/src/contrib/MultiBaC_1.2.0.tar.gz && rm -rf MultiBaC.buildbin-libdir && mkdir MultiBaC.buildbin-libdir && C:\Users\biocbuild\bbs-3.13-bioc\R\bin\R.exe CMD INSTALL --merge-multiarch --build --library=MultiBaC.buildbin-libdir MultiBaC_1.2.0.tar.gz && C:\Users\biocbuild\bbs-3.13-bioc\R\bin\R.exe CMD INSTALL MultiBaC_1.2.0.zip && rm MultiBaC_1.2.0.tar.gz MultiBaC_1.2.0.zip StartedAt: 2021-10-14 10:02:24 -0400 (Thu, 14 Oct 2021) EndedAt: 2021-10-14 10:06:00 -0400 (Thu, 14 Oct 2021) EllapsedTime: 216.0 seconds RetCode: 0 Status: OK