Package: MsCoreUtils Version: 1.4.0 Command: C:\Users\biocbuild\bbs-3.13-bioc\R\bin\R.exe CMD check --force-multiarch --install=check:MsCoreUtils.install-out.txt --library=C:\Users\biocbuild\bbs-3.13-bioc\R\library --no-vignettes --timings MsCoreUtils_1.4.0.tar.gz StartedAt: 2021-10-15 02:19:22 -0400 (Fri, 15 Oct 2021) EndedAt: 2021-10-15 02:21:19 -0400 (Fri, 15 Oct 2021) EllapsedTime: 116.8 seconds RetCode: 0 Status: OK CheckDir: MsCoreUtils.Rcheck Warnings: 0