Package: MSstatsConvert Version: 1.2.2 Command: /home/biocbuild/bbs-3.13-bioc/R/bin/R CMD INSTALL MSstatsConvert StartedAt: 2021-10-14 06:04:10 -0400 (Thu, 14 Oct 2021) EndedAt: 2021-10-14 06:04:23 -0400 (Thu, 14 Oct 2021) EllapsedTime: 12.7 seconds RetCode: 0 Status: OK