Package: MLSeq Version: 2.10.0 Command: /Library/Frameworks/R.framework/Versions/Current/Resources/bin/R CMD check --install=check:MLSeq.install-out.txt --library=/Library/Frameworks/R.framework/Versions/Current/Resources/library --no-vignettes --timings MLSeq_2.10.0.tar.gz StartedAt: 2021-10-14 21:16:43 -0400 (Thu, 14 Oct 2021) EndedAt: 2021-10-14 21:21:39 -0400 (Thu, 14 Oct 2021) EllapsedTime: 295.8 seconds RetCode: 0 Status: OK CheckDir: MLSeq.Rcheck Warnings: 0