Package: LoomExperiment Version: 1.10.1 Command: /Library/Frameworks/R.framework/Versions/Current/Resources/bin/R CMD INSTALL LoomExperiment StartedAt: 2021-10-14 09:43:36 -0400 (Thu, 14 Oct 2021) EndedAt: 2021-10-14 09:44:22 -0400 (Thu, 14 Oct 2021) EllapsedTime: 46.5 seconds RetCode: 0 Status: OK