Package: LinkHD Version: 1.6.0 Command: /home/biocbuild/bbs-3.13-bioc/R/bin/R CMD INSTALL LinkHD StartedAt: 2021-10-14 06:33:10 -0400 (Thu, 14 Oct 2021) EndedAt: 2021-10-14 06:33:33 -0400 (Thu, 14 Oct 2021) EllapsedTime: 23.2 seconds RetCode: 0 Status: OK