Package: LOLA Version: 1.22.0 Command: /Library/Frameworks/R.framework/Versions/Current/Resources/bin/R CMD build --keep-empty-dirs --no-resave-data LOLA StartedAt: 2021-10-14 12:54:36 -0400 (Thu, 14 Oct 2021) EndedAt: 2021-10-14 12:55:10 -0400 (Thu, 14 Oct 2021) EllapsedTime: 34.1 seconds RetCode: 0 Status: OK PackageFile: LOLA_1.22.0.tar.gz PackageFileSize: 1.158 MiB