git_url: https://git.bioconductor.org/packages/LOBSTAHS git_branch: RELEASE_3_13 git_last_commit: fec93aa git_last_commit_date: 2021-08-30 16:27:31 -0400 (Mon, 30 Aug 2021) Package: LOBSTAHS Version: 1.18.1 Maintainer: James Collins MaintainerEmail: james.r.collins at aya.yale.edu