Package: HiCBricks Version: 1.10.0 Command: rm -rf HiCBricks.buildbin-libdir && mkdir HiCBricks.buildbin-libdir && C:\Users\biocbuild\bbs-3.13-bioc\R\bin\R.exe CMD INSTALL --merge-multiarch --build --library=HiCBricks.buildbin-libdir HiCBricks_1.10.0.tar.gz StartedAt: 2021-10-15 09:47:34 -0400 (Fri, 15 Oct 2021) EndedAt: 2021-10-15 09:49:06 -0400 (Fri, 15 Oct 2021) EllapsedTime: 91.8 seconds RetCode: 0 Status: OK PackageFile: HiCBricks_1.10.0.zip PackageFileSize: 4.864 MiB