git_url: https://git.bioconductor.org/packages/HiCBricks git_branch: RELEASE_3_13 git_last_commit: f242bbd git_last_commit_date: 2021-05-19 12:38:53 -0400 (Wed, 19 May 2021) Package: HiCBricks Version: 1.10.0 Maintainer: Koustav Pal MaintainerEmail: koustav.pal at ifom.eu