Package: HIPPO Version: 1.4.0 Command: /Library/Frameworks/R.framework/Versions/Current/Resources/bin/R CMD build --keep-empty-dirs --no-resave-data HIPPO StartedAt: 2021-10-14 12:36:42 -0400 (Thu, 14 Oct 2021) EndedAt: 2021-10-14 12:37:35 -0400 (Thu, 14 Oct 2021) EllapsedTime: 52.6 seconds RetCode: 0 Status: OK PackageFile: HIPPO_1.4.0.tar.gz PackageFileSize: 596 KiB