Package: GateFinder Version: 1.12.0 Command: rm -rf GateFinder.buildbin-libdir && mkdir GateFinder.buildbin-libdir && C:\Users\biocbuild\bbs-3.13-bioc\R\bin\R.exe --arch x64 CMD INSTALL --no-multiarch --build --library=GateFinder.buildbin-libdir GateFinder_1.12.0.tar.gz StartedAt: 2021-10-15 09:26:12 -0400 (Fri, 15 Oct 2021) EndedAt: 2021-10-15 09:27:33 -0400 (Fri, 15 Oct 2021) EllapsedTime: 81.2 seconds RetCode: 0 Status: OK PackageFile: GateFinder_1.12.0.zip PackageFileSize: 904 KiB