Package: GA4GHshiny Version: 1.14.0 Command: rm -rf GA4GHshiny.buildbin-libdir && mkdir GA4GHshiny.buildbin-libdir && C:\Users\biocbuild\bbs-3.13-bioc\R\bin\R.exe CMD INSTALL --merge-multiarch --build --library=GA4GHshiny.buildbin-libdir GA4GHshiny_1.14.0.tar.gz StartedAt: 2021-10-15 09:24:54 -0400 (Fri, 15 Oct 2021) EndedAt: 2021-10-15 09:26:12 -0400 (Fri, 15 Oct 2021) EllapsedTime: 77.5 seconds RetCode: 0 Status: OK PackageFile: GA4GHshiny_1.14.0.zip PackageFileSize: 452.5 KiB